BEGIN:VCALENDAR
VERSION:2.0
PRODID:-//Cidercraft Demo - ECPv6.0.5//NONSGML v1.0//EN
CALSCALE:GREGORIAN
METHOD:PUBLISH
X-ORIGINAL-URL:https://sipsite.rainydayprosper.com
X-WR-CALDESC:Events for Cidercraft Demo
REFRESH-INTERVAL;VALUE=DURATION:PT1H
X-Robots-Tag:noindex
X-PUBLISHED-TTL:PT1H
BEGIN:VTIMEZONE
TZID:America/Los_Angeles
BEGIN:DAYLIGHT
TZOFFSETFROM:-0800
TZOFFSETTO:-0700
TZNAME:PDT
DTSTART:20220313T100000
END:DAYLIGHT
BEGIN:STANDARD
TZOFFSETFROM:-0700
TZOFFSETTO:-0800
TZNAME:PST
DTSTART:20221106T090000
END:STANDARD
END:VTIMEZONE
BEGIN:VEVENT
DTSTART;TZID=America/Los_Angeles:20220306T120000
DTEND;TZID=America/Los_Angeles:20220306T190000
DTSTAMP:20260421T201856
CREATED:20220228T090907Z
LAST-MODIFIED:20220228T090907Z
UID:30093-1646568000-1646593200@sipsite.rainydayprosper.com
SUMMARY:SheBrew Beer Festival
DESCRIPTION:7th Annual Beer and Cider Festival celebrates female-identified pro-am\, female professional and amateur brewers for a family friendly event!\nFeaturing more than 30 female professional brewers and 6 homebrewers from around the Pacific Northwest! Created to highlight and showcase the work of female-identified purveyors of beers and ciders.  SheBrew is 100% nonprofit\, all proceeds go to The Human Rights Campaign to fight for Equality. \nIn addition to unique beers and cider\, enjoy food carts\, outdoor games\, photobooth\, raffle and homebrew sodas! \n\nCovid precautions: \nAll volunteers\, vendors and guests will be required to show proof of vaccination and masks are required when not actively eating or drinking. We have reduced the number of vendors and reconfigured the space to accommodate more social distancing. Ample hand sanitizer will be available throughout. In the event of any Portland weather there is a large tent covering the outside area for people to spread out comfortably.
URL:https://sipsite.rainydayprosper.com/event/shebrew-beer-festival/
LOCATION:Castaway Portland\, 1900 NW 18th Ave\, Portland\, OR\, 97209\, United States
ATTACH;FMTTYPE=:
END:VEVENT
BEGIN:VEVENT
DTSTART;TZID=America/Los_Angeles:20220306T120000
DTEND;TZID=America/Los_Angeles:20220306T190000
DTSTAMP:20260421T201856
CREATED:20220228T090907Z
LAST-MODIFIED:20220228T090907Z
UID:33163-1646568000-1646593200@sipsite.rainydayprosper.com
SUMMARY:SheBrew Beer Festival
DESCRIPTION:7th Annual Beer and Cider Festival celebrates female-identified pro-am\, female professional and amateur brewers for a family friendly event!\nFeaturing more than 30 female professional brewers and 6 homebrewers from around the Pacific Northwest! Created to highlight and showcase the work of female-identified purveyors of beers and ciders.  SheBrew is 100% nonprofit\, all proceeds go to The Human Rights Campaign to fight for Equality. \nIn addition to unique beers and cider\, enjoy food carts\, outdoor games\, photobooth\, raffle and homebrew sodas! \n\nCovid precautions: \nAll volunteers\, vendors and guests will be required to show proof of vaccination and masks are required when not actively eating or drinking. We have reduced the number of vendors and reconfigured the space to accommodate more social distancing. Ample hand sanitizer will be available throughout. In the event of any Portland weather there is a large tent covering the outside area for people to spread out comfortably.
URL:https://sipsite.rainydayprosper.com/event/shebrew-beer-festival-2/
LOCATION:Castaway Portland\, 1900 NW 18th Ave\, Portland\, OR\, 97209\, United States
ATTACH;FMTTYPE=:
END:VEVENT
END:VCALENDAR