BEGIN:VCALENDAR
VERSION:2.0
PRODID:-//Cidercraft Demo - ECPv6.0.5//NONSGML v1.0//EN
CALSCALE:GREGORIAN
METHOD:PUBLISH
X-ORIGINAL-URL:https://sipsite.rainydayprosper.com
X-WR-CALDESC:Events for Cidercraft Demo
REFRESH-INTERVAL;VALUE=DURATION:PT1H
X-Robots-Tag:noindex
X-PUBLISHED-TTL:PT1H
BEGIN:VTIMEZONE
TZID:America/Los_Angeles
BEGIN:DAYLIGHT
TZOFFSETFROM:-0800
TZOFFSETTO:-0700
TZNAME:PDT
DTSTART:20220313T100000
END:DAYLIGHT
BEGIN:STANDARD
TZOFFSETFROM:-0700
TZOFFSETTO:-0800
TZNAME:PST
DTSTART:20221106T090000
END:STANDARD
END:VTIMEZONE
BEGIN:VEVENT
DTSTART;TZID=America/Los_Angeles:20220821T150000
DTEND;TZID=America/Los_Angeles:20220821T170000
DTSTAMP:20260421T174724
CREATED:20220706T081131Z
LAST-MODIFIED:20220706T081131Z
UID:33240-1661094000-1661101200@sipsite.rainydayprosper.com
SUMMARY:Les Dames d’Escoffier Picnic and Bubbles
DESCRIPTION:Picnic and Bubbles for two is a fun experience in collaboration with restaurants across BC. Guests can support women in hospitality and Food Bank BC by picnicking with participating restaurants in Vancouver\, Penticton\, and Kelowna. \nThe picnic for two includes a main dish created by your chosen restaurant\, two side dishes\, dessert\, and “bubbles”. Tickets are $150 for two and must be purchased in advance. \nEach pair of guests will choose which restaurant they want to order from\, arrive at their chosen\, scheduled pick-up time between 3:00 pm and 5:00 pm on August 21st\, and then go enjoy their picnic at their ideal location. Les Dames has suggested picnic locations for those who want to gather with other supporters such as Vanier Park in Vancouver\, Victoria Park in North Vancouver\, and Penticton Beach in Penticton. Alternatively\, guests can take their picnic to their own backyard or favourite picnic spot. \nParticipating restaurants include Time Family Winery\, Naramata Inn\, and RauDZ in The Okanagan\, and Vij’s\, Published on Main\, Provence Marinaside\, Bridge Brewing\,  Douce Diner\, and Popina in Vancouver. The full list of participating restaurants and their menus are listed on the Les Dames BC website.
URL:https://sipsite.rainydayprosper.com/event/les-dames-descoffier-picnic-and-bubbles-2/
LOCATION:WA
CATEGORIES:Events
ATTACH;FMTTYPE=:
END:VEVENT
BEGIN:VEVENT
DTSTART;TZID=America/Los_Angeles:20220821T150000
DTEND;TZID=America/Los_Angeles:20220821T170000
DTSTAMP:20260421T174724
CREATED:20220706T081131Z
LAST-MODIFIED:20220706T081131Z
UID:30744-1661094000-1661101200@sipsite.rainydayprosper.com
SUMMARY:Les Dames d’Escoffier Picnic and Bubbles
DESCRIPTION:Picnic and Bubbles for two is a fun experience in collaboration with restaurants across BC. Guests can support women in hospitality and Food Bank BC by picnicking with participating restaurants in Vancouver\, Penticton\, and Kelowna. \nThe picnic for two includes a main dish created by your chosen restaurant\, two side dishes\, dessert\, and “bubbles”. Tickets are $150 for two and must be purchased in advance. \nEach pair of guests will choose which restaurant they want to order from\, arrive at their chosen\, scheduled pick-up time between 3:00 pm and 5:00 pm on August 21st\, and then go enjoy their picnic at their ideal location. Les Dames has suggested picnic locations for those who want to gather with other supporters such as Vanier Park in Vancouver\, Victoria Park in North Vancouver\, and Penticton Beach in Penticton. Alternatively\, guests can take their picnic to their own backyard or favourite picnic spot. \nParticipating restaurants include Time Family Winery\, Naramata Inn\, and RauDZ in The Okanagan\, and Vij’s\, Published on Main\, Provence Marinaside\, Bridge Brewing\,  Douce Diner\, and Popina in Vancouver. The full list of participating restaurants and their menus are listed on the Les Dames BC website.
URL:https://sipsite.rainydayprosper.com/event/les-dames-descoffier-picnic-and-bubbles/
LOCATION:WA
CATEGORIES:Events
ATTACH;FMTTYPE=:
END:VEVENT
BEGIN:VEVENT
DTSTART;TZID=America/Los_Angeles:20220828T160000
DTEND;TZID=America/Los_Angeles:20220828T190000
DTSTAMP:20260421T174724
CREATED:20220822T105539Z
LAST-MODIFIED:20220822T105539Z
UID:31110-1661702400-1661713200@sipsite.rainydayprosper.com
SUMMARY:Ballard Bites & Brews
DESCRIPTION:Ballard Bites & Brews celebrates the fantastic breweries of Ballard and delicious flavors from around the city. C’mon down to this neighborhood 21+ festival to raise a glass\, try some great food\, and enjoy music on the mainstage!\nProceeds from this neighborhood festival support the mission of Ballard Food Bank\, bringing food and hope to our neighbors because there can be enough for everyone.
URL:https://sipsite.rainydayprosper.com/event/ballard-bites-brews/
LOCATION:1400 NW LEARY WAY SEATTLE\, WA 98107\, 1400 NW LEARY WAY SEATTLE\, WA 98107\, SEATTLE\, WA\, 98107\, United States
CATEGORIES:Beer,Events
ATTACH;FMTTYPE=image/png:https://sipsite.rainydayprosper.com/wp-content/uploads/2022/08/BallardFoodBank_SipWeb.png
END:VEVENT
BEGIN:VEVENT
DTSTART;TZID=America/Los_Angeles:20220828T160000
DTEND;TZID=America/Los_Angeles:20220828T190000
DTSTAMP:20260421T174724
CREATED:20220822T105539Z
LAST-MODIFIED:20220822T105539Z
UID:33272-1661702400-1661713200@sipsite.rainydayprosper.com
SUMMARY:Ballard Bites & Brews
DESCRIPTION:Ballard Bites & Brews celebrates the fantastic breweries of Ballard and delicious flavors from around the city. C’mon down to this neighborhood 21+ festival to raise a glass\, try some great food\, and enjoy music on the mainstage!\nProceeds from this neighborhood festival support the mission of Ballard Food Bank\, bringing food and hope to our neighbors because there can be enough for everyone.
URL:https://sipsite.rainydayprosper.com/event/ballard-bites-brews-2/
LOCATION:1400 NW LEARY WAY SEATTLE\, WA 98107\, 1400 NW LEARY WAY SEATTLE\, WA 98107\, SEATTLE\, WA\, 98107\, United States
CATEGORIES:Beer,Events
ATTACH;FMTTYPE=image/png:https://sipsite.rainydayprosper.com/wp-content/uploads/2022/08/BallardFoodBank_SipWeb.png
END:VEVENT
END:VCALENDAR