BEGIN:VCALENDAR
VERSION:2.0
PRODID:-//Cidercraft Demo - ECPv6.0.5//NONSGML v1.0//EN
CALSCALE:GREGORIAN
METHOD:PUBLISH
X-WR-CALNAME:Cidercraft Demo
X-ORIGINAL-URL:https://sipsite.rainydayprosper.com
X-WR-CALDESC:Events for Cidercraft Demo
REFRESH-INTERVAL;VALUE=DURATION:PT1H
X-Robots-Tag:noindex
X-PUBLISHED-TTL:PT1H
BEGIN:VTIMEZONE
TZID:America/Los_Angeles
BEGIN:DAYLIGHT
TZOFFSETFROM:-0800
TZOFFSETTO:-0700
TZNAME:PDT
DTSTART:20200308T100000
END:DAYLIGHT
BEGIN:STANDARD
TZOFFSETFROM:-0700
TZOFFSETTO:-0800
TZNAME:PST
DTSTART:20201101T090000
END:STANDARD
END:VTIMEZONE
BEGIN:VEVENT
DTSTART;TZID=America/Los_Angeles:20200502T120000
DTEND;TZID=America/Los_Angeles:20200502T170000
DTSTAMP:20260422T024516
CREATED:20200429T110949Z
LAST-MODIFIED:20200429T110949Z
UID:27352-1588420800-1588438800@sipsite.rainydayprosper.com
SUMMARY:Bale Breaker Drive-Thru
DESCRIPTION:Spend your Saturday at the Drive-Thru. \nVisit us every Saturday from 12-5pm for a weekly Bale Breaker Drive-Thru. No need to order ahead! Just pull up to the tent on the SE corner of the building (by the loading dock)\, stay in your car\, and we’ll have a cashier run out to meet you. Bring a credit card – no cash. We’ll have a runner bring out your order to your car\, and you’ll be good to go. Easy\, contact-less\, and safe! \nVisit our blog for this Saturday’s menu: https://www.balebreaker.com/blog/drive-thru-5-menu \nThis Saturday\, May 2\, we’re celebrating Cinco De Mayo early at our weekly Drive-Thru (Saturday\, 12-5pm) by releasing Lima Sabrosa Gose as our featured pre-filled growler. Clocking in at 2.1% ABV\, this is the epitome of easy\, warm-weather drinking – like a better version of Bud Light Lime. It gose down easy (see what we did there?).
URL:https://sipsite.rainydayprosper.com/event/bale-breaker-drive-thru/
LOCATION:Bale Breaker Brewing Co.\, 1801 Birchfield Rd.\, YAKIMA\, WA\, 98901
CATEGORIES:Beer,Events
END:VEVENT
BEGIN:VEVENT
DTSTART;TZID=America/Los_Angeles:20200502T120000
DTEND;TZID=America/Los_Angeles:20200502T170000
DTSTAMP:20260422T024516
CREATED:20200429T110949Z
LAST-MODIFIED:20200429T110949Z
UID:33014-1588420800-1588438800@sipsite.rainydayprosper.com
SUMMARY:Bale Breaker Drive-Thru
DESCRIPTION:Spend your Saturday at the Drive-Thru. \nVisit us every Saturday from 12-5pm for a weekly Bale Breaker Drive-Thru. No need to order ahead! Just pull up to the tent on the SE corner of the building (by the loading dock)\, stay in your car\, and we’ll have a cashier run out to meet you. Bring a credit card – no cash. We’ll have a runner bring out your order to your car\, and you’ll be good to go. Easy\, contact-less\, and safe! \nVisit our blog for this Saturday’s menu: https://www.balebreaker.com/blog/drive-thru-5-menu \nThis Saturday\, May 2\, we’re celebrating Cinco De Mayo early at our weekly Drive-Thru (Saturday\, 12-5pm) by releasing Lima Sabrosa Gose as our featured pre-filled growler. Clocking in at 2.1% ABV\, this is the epitome of easy\, warm-weather drinking – like a better version of Bud Light Lime. It gose down easy (see what we did there?).
URL:https://sipsite.rainydayprosper.com/event/bale-breaker-drive-thru-2/
LOCATION:Bale Breaker Brewing Co.\, 1801 Birchfield Rd.\, YAKIMA\, WA\, 98901
CATEGORIES:Beer,Events
END:VEVENT
BEGIN:VEVENT
DTSTART;TZID=America/Los_Angeles:20200502T110000
DTEND;TZID=America/Los_Angeles:20200502T170000
DTSTAMP:20260422T024516
CREATED:20200227T115213Z
LAST-MODIFIED:20200227T115213Z
UID:26957-1588417200-1588438800@sipsite.rainydayprosper.com
SUMMARY:Rosé Soiree: Expressions of Rosé
DESCRIPTION:Including the newly released 2017 RMS Brut Rosé \nSaturday May 2nd\, 11-5 \nExplore a flight of four very distinct Rosés including: \n2017 Rosé – 100% Pinot Noir \n2018 Rosé – 90% Chardonnay /10% Pinot Noir \n2019 Rosé – 75% Pinot Meunier / 20% Pinot Noir / 5% Chardonnay \n2017 RMS Brut Rosé – 100% Pinot Noir Sparkling wine (New!) \nThe event will feature an array of tasty bites and an optional Pinot Noir flight. \n$25pp / Fee waived with a six bottle purchase. \nComplimentary for Members.
URL:https://sipsite.rainydayprosper.com/event/rose-soiree-expressions-of-rose/
LOCATION:ROCO Winery\, 13260 NE Red Hills Rd\, Newberg\, OR\, 97213\, United States
CATEGORIES:Events,Wine
END:VEVENT
BEGIN:VEVENT
DTSTART;TZID=America/Los_Angeles:20200502T110000
DTEND;TZID=America/Los_Angeles:20200502T170000
DTSTAMP:20260422T024516
CREATED:20200227T115213Z
LAST-MODIFIED:20200227T115213Z
UID:32976-1588417200-1588438800@sipsite.rainydayprosper.com
SUMMARY:Rosé Soiree: Expressions of Rosé
DESCRIPTION:Including the newly released 2017 RMS Brut Rosé \nSaturday May 2nd\, 11-5 \nExplore a flight of four very distinct Rosés including: \n2017 Rosé – 100% Pinot Noir \n2018 Rosé – 90% Chardonnay /10% Pinot Noir \n2019 Rosé – 75% Pinot Meunier / 20% Pinot Noir / 5% Chardonnay \n2017 RMS Brut Rosé – 100% Pinot Noir Sparkling wine (New!) \nThe event will feature an array of tasty bites and an optional Pinot Noir flight. \n$25pp / Fee waived with a six bottle purchase. \nComplimentary for Members.
URL:https://sipsite.rainydayprosper.com/event/rose-soiree-expressions-of-rose-2/
LOCATION:ROCO Winery\, 13260 NE Red Hills Rd\, Newberg\, OR\, 97213\, United States
CATEGORIES:Events,Wine
END:VEVENT
BEGIN:VEVENT
DTSTART;TZID=America/Los_Angeles:20200501T100000
DTEND;TZID=America/Los_Angeles:20200503T190000
DTSTAMP:20260422T024516
CREATED:20191028T084654Z
LAST-MODIFIED:20191028T084654Z
UID:26364-1588327200-1588532400@sipsite.rainydayprosper.com
SUMMARY:Walla Walla Valley Spring Release Weekend
DESCRIPTION:During Spring Release Weekend visitors can be among the first to enjoy newly released wines\, many of which can only be found by visiting the wineries and tasting rooms themselves. It’s a fantastic opportunity to talk directly with Walla Walla Valley winemakers about the new vintage\, and gain insight into the creative winemaking process. In addition to sampling and purchasing newly released wines\, many wineries will offer special activities such as winemaker dinners\, live music\, and much more. \nNo registration necessary\, but hotels fill-up fast for this annual wine weekend so reserve your stay today!
URL:https://sipsite.rainydayprosper.com/event/walla-walla-valley-spring-release-weekend/
LOCATION:Multiple venues
CATEGORIES:Events,Wine
END:VEVENT
BEGIN:VEVENT
DTSTART;TZID=America/Los_Angeles:20200501T100000
DTEND;TZID=America/Los_Angeles:20200503T190000
DTSTAMP:20260422T024516
CREATED:20191028T084654Z
LAST-MODIFIED:20191028T084654Z
UID:32849-1588327200-1588532400@sipsite.rainydayprosper.com
SUMMARY:Walla Walla Valley Spring Release Weekend
DESCRIPTION:During Spring Release Weekend visitors can be among the first to enjoy newly released wines\, many of which can only be found by visiting the wineries and tasting rooms themselves. It’s a fantastic opportunity to talk directly with Walla Walla Valley winemakers about the new vintage\, and gain insight into the creative winemaking process. In addition to sampling and purchasing newly released wines\, many wineries will offer special activities such as winemaker dinners\, live music\, and much more. \nNo registration necessary\, but hotels fill-up fast for this annual wine weekend so reserve your stay today!
URL:https://sipsite.rainydayprosper.com/event/walla-walla-valley-spring-release-weekend-2/
LOCATION:Multiple venues
CATEGORIES:Events,Wine
END:VEVENT
BEGIN:VEVENT
DTSTART;TZID=America/Los_Angeles:20200430T170000
DTEND;TZID=America/Los_Angeles:20200430T173000
DTSTAMP:20260422T024516
CREATED:20200413T170502Z
LAST-MODIFIED:20200413T170502Z
UID:33007-1588266000-1588267800@sipsite.rainydayprosper.com
SUMMARY:The Full Pour\, Episode 5: Spring Wine Picks
DESCRIPTION:Winemaker Melissa Burr  Stoller Family Estate goes over wines for the season that you can get in stores today. \nHead over to Sip Magazine’s Facebook Page at 5pm Pacific on Thursday 4/16 on click on the Live broadcast.
URL:https://sipsite.rainydayprosper.com/event/the-full-pour-episode-5-spring-wine-picks-2/
LOCATION:VIRTUAL Facebook Live
CATEGORIES:Events,Wine
ATTACH;FMTTYPE=:
END:VEVENT
BEGIN:VEVENT
DTSTART;TZID=America/Los_Angeles:20200430T170000
DTEND;TZID=America/Los_Angeles:20200430T173000
DTSTAMP:20260422T024516
CREATED:20200413T170502Z
LAST-MODIFIED:20200413T170502Z
UID:27284-1588266000-1588267800@sipsite.rainydayprosper.com
SUMMARY:The Full Pour\, Episode 5: Spring Wine Picks
DESCRIPTION:Winemaker Melissa Burr  Stoller Family Estate goes over wines for the season that you can get in stores today. \nHead over to Sip Magazine’s Facebook Page at 5pm Pacific on Thursday 4/16 on click on the Live broadcast.
URL:https://sipsite.rainydayprosper.com/event/the-full-pour-episode-5-spring-wine-picks/
LOCATION:VIRTUAL Facebook Live
CATEGORIES:Events,Wine
ATTACH;FMTTYPE=:
END:VEVENT
BEGIN:VEVENT
DTSTART;TZID=America/Los_Angeles:20200430T160000
DTEND;TZID=America/Los_Angeles:20200430T163000
DTSTAMP:20260422T024516
CREATED:20200415T123106Z
LAST-MODIFIED:20200415T123106Z
UID:27292-1588262400-1588264200@sipsite.rainydayprosper.com
SUMMARY:Red Mountain Revealed Virtual Series
DESCRIPTION:The Red Mountain AVA Alliance brings the sights and sips of Washington’s acclaimed wine growing region directly to your living room! Tune in via Facebook (@RedMtnAVA) at 4 p.m. (PT) every Thursday in April to hear directly from Red Mountain winemakers about why the AVA is a top growing region for the Cabernet Sauvignon grape varietal (and a few to try right now)\, take a virtual horseback wine tour and more. Access the Red Mountain buying guide here.
URL:https://sipsite.rainydayprosper.com/event/red-mountain-revealed-virtual-series/
LOCATION:VIRTUAL Facebook Live
CATEGORIES:Events,Wine
END:VEVENT
BEGIN:VEVENT
DTSTART;TZID=America/Los_Angeles:20200430T160000
DTEND;TZID=America/Los_Angeles:20200430T163000
DTSTAMP:20260422T024516
CREATED:20200415T123106Z
LAST-MODIFIED:20200415T123106Z
UID:33010-1588262400-1588264200@sipsite.rainydayprosper.com
SUMMARY:Red Mountain Revealed Virtual Series
DESCRIPTION:The Red Mountain AVA Alliance brings the sights and sips of Washington’s acclaimed wine growing region directly to your living room! Tune in via Facebook (@RedMtnAVA) at 4 p.m. (PT) every Thursday in April to hear directly from Red Mountain winemakers about why the AVA is a top growing region for the Cabernet Sauvignon grape varietal (and a few to try right now)\, take a virtual horseback wine tour and more. Access the Red Mountain buying guide here.
URL:https://sipsite.rainydayprosper.com/event/red-mountain-revealed-virtual-series-4/
LOCATION:VIRTUAL Facebook Live
CATEGORIES:Events,Wine
END:VEVENT
BEGIN:VEVENT
DTSTART;TZID=America/Los_Angeles:20200430T100000
DTEND;TZID=America/Los_Angeles:20200505T180000
DTSTAMP:20260422T024516
CREATED:20200227T115454Z
LAST-MODIFIED:20200227T115454Z
UID:27009-1588240800-1588701600@sipsite.rainydayprosper.com
SUMMARY:Pasco Cinco de Mayo
DESCRIPTION:An unforgettable family experience in downtown Pasco that includes a parade\, live music\, food\, and more. Help raise the spirit of the Pasco community through the demonstration of pride and cultural diversity at this inclusive celebration
URL:https://sipsite.rainydayprosper.com/event/pasco-cinco-de-mayo/
LOCATION:Pasco Cinco de Mayo\, 110 S 4th Ave\, Pasco\, WA\, 99301\, United States
CATEGORIES:Events
END:VEVENT
BEGIN:VEVENT
DTSTART;TZID=America/Los_Angeles:20200430T100000
DTEND;TZID=America/Los_Angeles:20200505T180000
DTSTAMP:20260422T024516
CREATED:20200227T115454Z
LAST-MODIFIED:20200227T115454Z
UID:32988-1588240800-1588701600@sipsite.rainydayprosper.com
SUMMARY:Pasco Cinco de Mayo
DESCRIPTION:An unforgettable family experience in downtown Pasco that includes a parade\, live music\, food\, and more. Help raise the spirit of the Pasco community through the demonstration of pride and cultural diversity at this inclusive celebration
URL:https://sipsite.rainydayprosper.com/event/pasco-cinco-de-mayo-2/
LOCATION:Pasco Cinco de Mayo\, 110 S 4th Ave\, Pasco\, WA\, 99301\, United States
CATEGORIES:Events
END:VEVENT
BEGIN:VEVENT
DTSTART;TZID=America/Los_Angeles:20200429T160000
DTEND;TZID=America/Los_Angeles:20200429T170000
DTSTAMP:20260422T024516
CREATED:20200429T111048Z
LAST-MODIFIED:20200429T111048Z
UID:27340-1588176000-1588179600@sipsite.rainydayprosper.com
SUMMARY:Sokol Blossor Winery Virtual Happy Hours
DESCRIPTION:Sokol Blosser Winery in the Willamette Valley is hosting weekly virtual happy hours on Wednesdays at 4pm PST from the Sokol Blosser Estate via Instagram Live @sokolblosser or @evolutionwine! You can pour yourself a glass of your favorite wine\, or you can order the wine the hosts will be enjoying and toast with them! They’ll be talking about the wines\, sharing winery stories\, and trying to decide if geese or sheep provide the best fertilizer!
URL:https://sipsite.rainydayprosper.com/event/sokol-blossor-winery-virtual-happy-hours/
LOCATION:VIRTUAL Instagram Live
CATEGORIES:Events,Wine
END:VEVENT
BEGIN:VEVENT
DTSTART;TZID=America/Los_Angeles:20200429T160000
DTEND;TZID=America/Los_Angeles:20200429T170000
DTSTAMP:20260422T024516
CREATED:20200429T111048Z
LAST-MODIFIED:20200429T111048Z
UID:33013-1588176000-1588179600@sipsite.rainydayprosper.com
SUMMARY:Sokol Blossor Winery Virtual Happy Hours
DESCRIPTION:Sokol Blosser Winery in the Willamette Valley is hosting weekly virtual happy hours on Wednesdays at 4pm PST from the Sokol Blosser Estate via Instagram Live @sokolblosser or @evolutionwine! You can pour yourself a glass of your favorite wine\, or you can order the wine the hosts will be enjoying and toast with them! They’ll be talking about the wines\, sharing winery stories\, and trying to decide if geese or sheep provide the best fertilizer!
URL:https://sipsite.rainydayprosper.com/event/sokol-blossor-winery-virtual-happy-hours-2/
LOCATION:VIRTUAL Instagram Live
CATEGORIES:Events,Wine
END:VEVENT
BEGIN:VEVENT
DTSTART;TZID=America/Los_Angeles:20200424T170000
DTEND;TZID=America/Los_Angeles:20200424T173000
DTSTAMP:20260422T024516
CREATED:20200413T161618Z
LAST-MODIFIED:20200413T161618Z
UID:33006-1587747600-1587749400@sipsite.rainydayprosper.com
SUMMARY:The Full Pour\, Episode 4: Hazies + Hops
DESCRIPTION:Join us for Episode 4 of The Full Pour with Cloudburst Brewing’s Steve Luke as he clears the air on hazy beer and the hops that make beers better. \nHead over to Sip Magazine’s Facebook Page at 5pm Pacific on Thursday 4/16 on click on the Live broadcast.
URL:https://sipsite.rainydayprosper.com/event/the-full-pour-episode-4-hazies-hops-with-cloudburst-brewing-2/
LOCATION:VIRTUAL Facebook Live
CATEGORIES:Beer,Events
ATTACH;FMTTYPE=:
END:VEVENT
BEGIN:VEVENT
DTSTART;TZID=America/Los_Angeles:20200424T170000
DTEND;TZID=America/Los_Angeles:20200424T173000
DTSTAMP:20260422T024516
CREATED:20200413T161618Z
LAST-MODIFIED:20200413T161618Z
UID:27282-1587747600-1587749400@sipsite.rainydayprosper.com
SUMMARY:The Full Pour\, Episode 4: Hazies + Hops
DESCRIPTION:Join us for Episode 4 of The Full Pour with Cloudburst Brewing’s Steve Luke as he clears the air on hazy beer and the hops that make beers better. \nHead over to Sip Magazine’s Facebook Page at 5pm Pacific on Thursday 4/16 on click on the Live broadcast.
URL:https://sipsite.rainydayprosper.com/event/the-full-pour-episode-4-hazies-hops-with-cloudburst-brewing/
LOCATION:VIRTUAL Facebook Live
CATEGORIES:Beer,Events
ATTACH;FMTTYPE=:
END:VEVENT
BEGIN:VEVENT
DTSTART;TZID=America/Los_Angeles:20200424T000000
DTEND;TZID=America/Los_Angeles:20200426T000000
DTSTAMP:20260422T024516
CREATED:20200310T132124Z
LAST-MODIFIED:20200310T132124Z
UID:27083-1587686400-1587859200@sipsite.rainydayprosper.com
SUMMARY:Yakima Valley Spring Barrel Tasting
DESCRIPTION:Sip and savor the next great Yakima Valley vintages straight from the barrel. Come taste where Washington wine was born!
URL:https://sipsite.rainydayprosper.com/event/yakima-valley-spring-barrel-tasting/
LOCATION:Yakima Valley Wine Country
CATEGORIES:Events,Wine
END:VEVENT
BEGIN:VEVENT
DTSTART;TZID=America/Los_Angeles:20200424T000000
DTEND;TZID=America/Los_Angeles:20200426T000000
DTSTAMP:20260422T024516
CREATED:20200310T132124Z
LAST-MODIFIED:20200310T132124Z
UID:33002-1587686400-1587859200@sipsite.rainydayprosper.com
SUMMARY:Yakima Valley Spring Barrel Tasting
DESCRIPTION:Sip and savor the next great Yakima Valley vintages straight from the barrel. Come taste where Washington wine was born!
URL:https://sipsite.rainydayprosper.com/event/yakima-valley-spring-barrel-tasting-2/
LOCATION:Yakima Valley Wine Country
CATEGORIES:Events,Wine
END:VEVENT
BEGIN:VEVENT
DTSTART;TZID=America/Los_Angeles:20200423T160000
DTEND;TZID=America/Los_Angeles:20200423T163000
DTSTAMP:20260422T024516
CREATED:20200415T123148Z
LAST-MODIFIED:20200415T123148Z
UID:27291-1587657600-1587659400@sipsite.rainydayprosper.com
SUMMARY:Red Mountain Revealed Virtual Series
DESCRIPTION:The Red Mountain AVA Alliance brings the sights and sips of Washington’s acclaimed wine growing region directly to your living room! Tune in via Facebook (@RedMtnAVA) at 4 p.m. (PT) every Thursday in April to hear directly from Red Mountain winemakers about why the AVA is a top growing region for the Cabernet Sauvignon grape varietal (and a few to try right now)\, take a virtual horseback wine tour and more. Access the Red Mountain buying guide here.
URL:https://sipsite.rainydayprosper.com/event/red-mountain-revealed-virtual-series-2/
LOCATION:VIRTUAL Facebook Live
CATEGORIES:Events,Wine
END:VEVENT
BEGIN:VEVENT
DTSTART;TZID=America/Los_Angeles:20200423T160000
DTEND;TZID=America/Los_Angeles:20200423T163000
DTSTAMP:20260422T024516
CREATED:20200415T123148Z
LAST-MODIFIED:20200415T123148Z
UID:33009-1587657600-1587659400@sipsite.rainydayprosper.com
SUMMARY:Red Mountain Revealed Virtual Series
DESCRIPTION:The Red Mountain AVA Alliance brings the sights and sips of Washington’s acclaimed wine growing region directly to your living room! Tune in via Facebook (@RedMtnAVA) at 4 p.m. (PT) every Thursday in April to hear directly from Red Mountain winemakers about why the AVA is a top growing region for the Cabernet Sauvignon grape varietal (and a few to try right now)\, take a virtual horseback wine tour and more. Access the Red Mountain buying guide here.
URL:https://sipsite.rainydayprosper.com/event/red-mountain-revealed-virtual-series-2-2/
LOCATION:VIRTUAL Facebook Live
CATEGORIES:Events,Wine
END:VEVENT
BEGIN:VEVENT
DTSTART;TZID=America/Los_Angeles:20200418T190000
DTEND;TZID=America/Los_Angeles:20200418T210000
DTSTAMP:20260422T024516
CREATED:20200310T134137Z
LAST-MODIFIED:20200310T134137Z
UID:32994-1587236400-1587243600@sipsite.rainydayprosper.com
SUMMARY:Rose Soiree
DESCRIPTION:Enjoy an evening celebrating the delicious diversity of summer’s favorite drink at Larc Hill Vineyard Ranch on the beautiful south shore of Lake Chelan. Tickets include 10 Rose tastings\, hors ‘doeuvres provided by Siren Song Winery\, and a logo wine glass. $60 per ticket. 21 years of age or older event. Use code TasteChelan to receive $5 off your ticket price!
URL:https://sipsite.rainydayprosper.com/event/rose-soiree-2/
LOCATION:Larc Hill Vineyard Ranch\, 3795 U.S. 97 Alternate\, Chelan\, WA\, 98816\, United States
CATEGORIES:Events,Wine
END:VEVENT
BEGIN:VEVENT
DTSTART;TZID=America/Los_Angeles:20200418T190000
DTEND;TZID=America/Los_Angeles:20200418T210000
DTSTAMP:20260422T024516
CREATED:20200310T134137Z
LAST-MODIFIED:20200310T134137Z
UID:26982-1587236400-1587243600@sipsite.rainydayprosper.com
SUMMARY:Rose Soiree
DESCRIPTION:Enjoy an evening celebrating the delicious diversity of summer’s favorite drink at Larc Hill Vineyard Ranch on the beautiful south shore of Lake Chelan. Tickets include 10 Rose tastings\, hors ‘doeuvres provided by Siren Song Winery\, and a logo wine glass. $60 per ticket. 21 years of age or older event. Use code TasteChelan to receive $5 off your ticket price!
URL:https://sipsite.rainydayprosper.com/event/rose-soiree/
LOCATION:Larc Hill Vineyard Ranch\, 3795 U.S. 97 Alternate\, Chelan\, WA\, 98816\, United States
CATEGORIES:Events,Wine
END:VEVENT
BEGIN:VEVENT
DTSTART;TZID=America/Los_Angeles:20200418T110000
DTEND;TZID=America/Los_Angeles:20200418T180000
DTSTAMP:20260422T024516
CREATED:20200227T113626Z
LAST-MODIFIED:20200227T113626Z
UID:27037-1587207600-1587232800@sipsite.rainydayprosper.com
SUMMARY:Pre-Barrel Bash presented by the Winemakers Loft
DESCRIPTION:The Pre-Barrel Bash presented by the Winemakers Loft is a good time for a GREAT cause. All ticket sales from this day of live music\, wine by all 4 wineries who call the Winemakers Loft “home”\, and fabulous local food truck fare are donated to Heartlinks Hospice & Palliative Care. Heartlinks provides compassionate and comprehensive medical care for children and adults who are facing life-threatening illnesses throughout Benton County and Yakima County. The Winemakers Loft is proud to benefit Heartlinks in this day of FUN before Spring Barrel weekend! 11AM – 6PM at the Winemakers Loft in Prosser. 21+ Event is $15 in advance via https://heartlinkshospice.ejoinme.org/prebarrelbash and $20 at the door.
URL:https://sipsite.rainydayprosper.com/event/pre-barrel-bash-presented-by-the-winemakers-loft/
LOCATION:Winemakers Loft\, 357 Port Ave.\, Prosser\, Prosser\, WA\, 99350\, United States
CATEGORIES:Events,Wine
END:VEVENT
BEGIN:VEVENT
DTSTART;TZID=America/Los_Angeles:20200418T110000
DTEND;TZID=America/Los_Angeles:20200418T180000
DTSTAMP:20260422T024516
CREATED:20200227T113626Z
LAST-MODIFIED:20200227T113626Z
UID:32991-1587207600-1587232800@sipsite.rainydayprosper.com
SUMMARY:Pre-Barrel Bash presented by the Winemakers Loft
DESCRIPTION:The Pre-Barrel Bash presented by the Winemakers Loft is a good time for a GREAT cause. All ticket sales from this day of live music\, wine by all 4 wineries who call the Winemakers Loft “home”\, and fabulous local food truck fare are donated to Heartlinks Hospice & Palliative Care. Heartlinks provides compassionate and comprehensive medical care for children and adults who are facing life-threatening illnesses throughout Benton County and Yakima County. The Winemakers Loft is proud to benefit Heartlinks in this day of FUN before Spring Barrel weekend! 11AM – 6PM at the Winemakers Loft in Prosser. 21+ Event is $15 in advance via https://heartlinkshospice.ejoinme.org/prebarrelbash and $20 at the door.
URL:https://sipsite.rainydayprosper.com/event/pre-barrel-bash-presented-by-the-winemakers-loft-2/
LOCATION:Winemakers Loft\, 357 Port Ave.\, Prosser\, Prosser\, WA\, 99350\, United States
CATEGORIES:Events,Wine
END:VEVENT
BEGIN:VEVENT
DTSTART;TZID=America/Los_Angeles:20200416T170000
DTEND;TZID=America/Los_Angeles:20200416T173000
DTSTAMP:20260422T024516
CREATED:20200413T160607Z
LAST-MODIFIED:20200413T160607Z
UID:33005-1587056400-1587058200@sipsite.rainydayprosper.com
SUMMARY:The Full Pour\, Episode 3: The Art of Gin
DESCRIPTION:Gin isn’t just reserved for sexy British super spies or with juice and Snoop Dogg — it is a spirit for the people! On Thursday\, April 16 at 5pm\, AJ Temple of Temple Distilling educates us on the art of gin\, its distillation and botanical bill\, why he makes it and what he drinks it with. \nHead over to Sip Magazine’s Facebook Page at 5pm Pacific on Thursday 4/16 on click on the Live broadcast. \n  \n  \n  \n 
URL:https://sipsite.rainydayprosper.com/event/the-full-pour-episode-3-the-art-of-gin-2/
LOCATION:VIRTUAL Facebook Live
CATEGORIES:Events,Spirits
ATTACH;FMTTYPE=:
END:VEVENT
BEGIN:VEVENT
DTSTART;TZID=America/Los_Angeles:20200416T170000
DTEND;TZID=America/Los_Angeles:20200416T173000
DTSTAMP:20260422T024516
CREATED:20200413T160607Z
LAST-MODIFIED:20200413T160607Z
UID:27280-1587056400-1587058200@sipsite.rainydayprosper.com
SUMMARY:The Full Pour\, Episode 3: The Art of Gin
DESCRIPTION:Gin isn’t just reserved for sexy British super spies or with juice and Snoop Dogg — it is a spirit for the people! On Thursday\, April 16 at 5pm\, AJ Temple of Temple Distilling educates us on the art of gin\, its distillation and botanical bill\, why he makes it and what he drinks it with. \nHead over to Sip Magazine’s Facebook Page at 5pm Pacific on Thursday 4/16 on click on the Live broadcast. \n  \n  \n  \n 
URL:https://sipsite.rainydayprosper.com/event/the-full-pour-episode-3-the-art-of-gin/
LOCATION:VIRTUAL Facebook Live
CATEGORIES:Events,Spirits
ATTACH;FMTTYPE=:
END:VEVENT
BEGIN:VEVENT
DTSTART;TZID=America/Los_Angeles:20200416T160000
DTEND;TZID=America/Los_Angeles:20200416T170000
DTSTAMP:20260422T024516
CREATED:20200409T124010Z
LAST-MODIFIED:20200409T124010Z
UID:27269-1587052800-1587056400@sipsite.rainydayprosper.com
SUMMARY:Independent Perry Co. Virtual Tasting
DESCRIPTION:Hosted by Northwest Cider\, join Micah Roberson with Independent Perry Co. to talk about and taste through three of their estate Perries. We’ll navigate through some Q&A and take a walk through the production cellar and Orchard (wi-fi/cellular permitting). Get the virtual tasting assortment delivered – order online!
URL:https://sipsite.rainydayprosper.com/event/independent-perry-co-virtual-tasting/
LOCATION:VIRTUAL Facebook Live
CATEGORIES:Cider,Events
END:VEVENT
BEGIN:VEVENT
DTSTART;TZID=America/Los_Angeles:20200416T160000
DTEND;TZID=America/Los_Angeles:20200416T170000
DTSTAMP:20260422T024516
CREATED:20200409T124010Z
LAST-MODIFIED:20200409T124010Z
UID:33004-1587052800-1587056400@sipsite.rainydayprosper.com
SUMMARY:Independent Perry Co. Virtual Tasting
DESCRIPTION:Hosted by Northwest Cider\, join Micah Roberson with Independent Perry Co. to talk about and taste through three of their estate Perries. We’ll navigate through some Q&A and take a walk through the production cellar and Orchard (wi-fi/cellular permitting). Get the virtual tasting assortment delivered – order online!
URL:https://sipsite.rainydayprosper.com/event/independent-perry-co-virtual-tasting-2/
LOCATION:VIRTUAL Facebook Live
CATEGORIES:Cider,Events
END:VEVENT
BEGIN:VEVENT
DTSTART;TZID=America/Los_Angeles:20200416T160000
DTEND;TZID=America/Los_Angeles:20200416T163000
DTSTAMP:20260422T024516
CREATED:20200415T123224Z
LAST-MODIFIED:20200415T123224Z
UID:27290-1587052800-1587054600@sipsite.rainydayprosper.com
SUMMARY:Red Mountain Revealed Virtual Series
DESCRIPTION:The Red Mountain AVA Alliance brings the sights and sips of Washington’s acclaimed wine growing region directly to your living room! Tune in via Facebook (@RedMtnAVA) at 4 p.m. (PT) every Thursday in April to hear directly from Red Mountain winemakers about why the AVA is a top growing region for the Cabernet Sauvignon grape varietal (and a few to try right now)\, take a virtual horseback wine tour and more. Access the Red Mountain buying guide here.
URL:https://sipsite.rainydayprosper.com/event/red-mountain-revealed-virtual-series-3/
LOCATION:VIRTUAL Facebook Live
CATEGORIES:Events,Wine
END:VEVENT
BEGIN:VEVENT
DTSTART;TZID=America/Los_Angeles:20200416T160000
DTEND;TZID=America/Los_Angeles:20200416T163000
DTSTAMP:20260422T024516
CREATED:20200415T123224Z
LAST-MODIFIED:20200415T123224Z
UID:33008-1587052800-1587054600@sipsite.rainydayprosper.com
SUMMARY:Red Mountain Revealed Virtual Series
DESCRIPTION:The Red Mountain AVA Alliance brings the sights and sips of Washington’s acclaimed wine growing region directly to your living room! Tune in via Facebook (@RedMtnAVA) at 4 p.m. (PT) every Thursday in April to hear directly from Red Mountain winemakers about why the AVA is a top growing region for the Cabernet Sauvignon grape varietal (and a few to try right now)\, take a virtual horseback wine tour and more. Access the Red Mountain buying guide here.
URL:https://sipsite.rainydayprosper.com/event/red-mountain-revealed-virtual-series-3-2/
LOCATION:VIRTUAL Facebook Live
CATEGORIES:Events,Wine
END:VEVENT
END:VCALENDAR